BEGIN:VCALENDAR
VERSION:2.0
PRODID:-//31.47.253.155//NONSGML kigkonsult.se iCalcreator 2.20//
CALSCALE:GREGORIAN
METHOD:PUBLISH
X-WR-TIMEZONE:Europe/Berlin
BEGIN:VEVENT
UID:event178@Holdorf Meetzen
DTSTAMP:20260424T112200Z
CATEGORIES:Gemeindevertretung
DESCRIPTION:Sitzung der Gemeindevertretung Holdorf\nKategorie: Gemeindevert
 retung\nICS-Link: https://holdorf-meetzen.de/index.php?option=com_jem&view
 =event&id=178:sitzung-der-gemeindevertretung-holdorf\n
DTSTART;TZID=Europe/Berlin:20260519T180000
DTEND;TZID=Europe/Berlin:20260519T203000
LOCATION:Dorfgemeinschaftshaus\,Meetzener Str. 6\,19217 Holdorf
SUMMARY:Sitzung der Gemeindevertretung Holdorf
URL:https://holdorf-meetzen.de/index.php?option=com_jem&view=event&id=178:s
 itzung-der-gemeindevertretung-holdorf
END:VEVENT
END:VCALENDAR